BEGIN:VCALENDAR
VERSION:2.0
PRODID:-//ChamberMaster//Event Calendar 2.0//EN
METHOD:PUBLISH
X-PUBLISHED-TTL:P1H
REFRESH-INTERVAL:P1H
CALSCALE:GREGORIAN
BEGIN:VTIMEZONE
TZID:America/New_York
BEGIN:DAYLIGHT
RRULE:FREQ=YEARLY;BYMONTH=3;BYDAY=2SU
DTSTART:20070101T000000
TZOFFSETFROM:-0500
TZOFFSETTO:-0400
TZNAME:Eastern Daylight Time
END:DAYLIGHT
BEGIN:STANDARD
RRULE:FREQ=YEARLY;BYMONTH=11;BYDAY=1SU
DTSTART:20070101T000000
TZOFFSETFROM:-0400
TZOFFSETTO:-0500
TZNAME:Eastern Standard Time
END:STANDARD
END:VTIMEZONE
BEGIN:VEVENT
DTSTART;TZID=America/New_York:20260507T180000
DTEND;TZID=America/New_York:20260507T210000
X-MICROSOFT-CDO-ALLDAYEVENT:FALSE
SUMMARY:Annual JCAR Bowling Tournament
DESCRIPTION:🎳 Strike Up the Fun!Join us on May 7th at 6:00 PM at Rainbow Lanes in Clayton. We've reserved 20 lanes for an evening of high-energy networking and friendly rivalry. Whether you're a "Kingpin" or a "Gutter Ball Guru\," we want you there!🏆 How the Tournament Works:The Format: We'll play 2 full rounds. Team totals from both rounds will be combined to determine our champions!\n\nThe Prizes: We aren't just rewarding the pros! We're handing out trophies for:✨ Best Team & Best Player (The Champions!)🐢 Worst Team (Better luck next year!)🔥 Most Spirited (Bring your energy and cheers!)🍔 Fuel Your Game:Every participant receives a complimentary meal ticket with their registration! Additional snacks and drinks will be available for purchase at the alley to keep your energy up.📝 Registration Details:Sign up as a Team: Bring your pre-made "Dream Team" to take on the competition.\n\nSign up Individually: Flying solo? No problem! We'll assign you to a team at random it's the perfect way to make new friends!❤️ Bowl for a Cause:Most importantly\, all proceeds from this event benefit CAP (Corporate Ally Program). Your strikes and spares help support a fantastic local cause!Don't miss out on the laughs\, the strikes\, and the spirit!👉 Register Your Team Today!About the Corporate Ally Program:\nThe National Association of REALTORS  Corporate Ally Program is a powerful advocacy initiative that allows real estate industry partners and affiliates to invest in the future of the profession. Contributions support issue campaigns\, public policy efforts\, and advocacy programs that protect and promote the real estate industry at all levels of government. Tournament Contributions: Checks for the tournament registration fee may be made payable to - Corporate Ally Program.
X-ALT-DESC;FMTTYPE=text/html:<!DOCTYPE html><html><head><title></title></head><body aria-disabled="false"><h3 data-path-to-node="1">🎳 <b data-index-in-node="3" data-path-to-node="1">Strike Up the Fun!</b></h3><p data-path-to-node="2">Join us on <b data-index-in-node="11" data-path-to-node="2">May 7th at 6:00 PM</b> at <b data-index-in-node="33" data-path-to-node="2">Rainbow Lanes in Clayton</b>. We&rsquo\;ve reserved <b data-index-in-node="74" data-path-to-node="2">20 lanes</b> for an evening of high-energy networking and friendly rivalry. Whether you&#39\;re a &quot\;Kingpin&quot\; or a &quot\;Gutter Ball Guru\,&quot\; we want you there!</p><h3 data-path-to-node="3">🏆 <b data-index-in-node="3" data-path-to-node="3">How the Tournament Works:</b></h3><ul fr-original-style="" style="list-style-position: inside\;"><li data-path-to-node="4\,0\,0"><b data-index-in-node="0" data-path-to-node="4\,0\,0">The Format:</b> We&rsquo\;ll play <b data-index-in-node="23" data-path-to-node="4\,0\,0">2 full rounds</b>. Team totals from both rounds will be combined to determine our champions!<br><br></li><li data-path-to-node="4\,1\,0"><b data-index-in-node="0" data-path-to-node="4\,1\,0">The Prizes:</b> We aren&#39\;t just rewarding the pros! We&rsquo\;re handing out trophies for:</li></ul><ol fr-original-style="" style="list-style-position: inside\;"><li>✨ <b data-index-in-node="2" data-path-to-node="4\,1\,1\,0\,0">Best Team</b> &amp\; <b data-index-in-node="14" data-path-to-node="4\,1\,1\,0\,0">Best Player</b> (The Champions!)</li><li>🐢 <b data-index-in-node="3" data-path-to-node="4\,1\,1\,1\,0">Worst Team</b> (Better luck next year!)</li><li>🔥 <b data-index-in-node="3" data-path-to-node="4\,1\,1\,2\,0">Most Spirited</b> (Bring your energy and cheers!)</li></ol><h3 data-path-to-node="5">🍔 <b data-index-in-node="3" data-path-to-node="5">Fuel Your Game:</b></h3><p data-path-to-node="6">Every participant receives a <b data-index-in-node="29" data-path-to-node="6">complimentary meal ticket</b> with their registration! Additional snacks and drinks will be available for purchase at the alley to keep your energy up.</p><h3 data-path-to-node="7">📝 <b data-index-in-node="3" data-path-to-node="7">Registration Details:</b></h3><ul fr-original-style="" style="list-style-position: inside\;"><li data-path-to-node="8\,0\,0"><b data-index-in-node="0" data-path-to-node="8\,0\,0">Sign up as a Team:</b> Bring your pre-made &quot\;Dream Team&quot\; to take on the competition.<br><br></li><li data-path-to-node="8\,1\,0"><b data-index-in-node="0" data-path-to-node="8\,1\,0">Sign up Individually:</b> Flying solo? No problem! We&rsquo\;ll assign you to a team at random&mdash\;it&rsquo\;s the perfect way to make new friends!</li></ul><h3 data-path-to-node="9">❤️ <b data-index-in-node="3" data-path-to-node="9">Bowl for a Cause:</b></h3><p data-path-to-node="10">Most importantly\, all proceeds from this event benefit <b data-index-in-node="55" data-path-to-node="10">CAP (Corporate Ally Program)</b>. Your strikes and spares help support a fantastic local cause!</p><hr data-path-to-node="11" fr-original-style="" style="clear: both\; user-select: none\; break-after: page\;"><p data-path-to-node="12"><b data-index-in-node="0" data-path-to-node="12">Don&rsquo\;t miss out on the laughs\, the strikes\, and the spirit!</b></p><p data-path-to-node="13">👉 <b data-index-in-node="3" data-path-to-node="13">Register Your Team Today!</b></p><p><u>About the Corporate Ally Program:</u><br>The National Association of REALTORS&reg\; Corporate Ally Program is a powerful advocacy initiative that allows real estate industry partners and affiliates to invest in the future of the profession. Contributions support issue campaigns\, public policy efforts\, and advocacy programs that protect and promote the real estate industry at all levels of government.&nbsp\;</p><p><u>Tournament Contributions:</u> Checks for the tournament registration fee may be made payable to - Corporate Ally Program.</p></body></html>
LOCATION:850 NC-42W Clayton 27520
UID:e.2990.1443140
SEQUENCE:3
DTSTAMP:20260421T191452Z
URL:https://members.jcar.realtor/events/Details/annual-jcar-bowling-tournament-1709350?sourceTypeId=Hub
END:VEVENT
END:VCALENDAR
