BEGIN:VCALENDAR
VERSION:2.0
PRODID:-//ChamberMaster//Event Calendar 2.0//EN
METHOD:PUBLISH
X-PUBLISHED-TTL:P1H
REFRESH-INTERVAL:P1H
CALSCALE:GREGORIAN
BEGIN:VTIMEZONE
TZID:America/New_York
BEGIN:DAYLIGHT
RRULE:FREQ=YEARLY;BYMONTH=3;BYDAY=2SU
DTSTART:20070101T000000
TZOFFSETFROM:-0500
TZOFFSETTO:-0400
TZNAME:Eastern Daylight Time
END:DAYLIGHT
BEGIN:STANDARD
RRULE:FREQ=YEARLY;BYMONTH=11;BYDAY=1SU
DTSTART:20070101T000000
TZOFFSETFROM:-0400
TZOFFSETTO:-0500
TZNAME:Eastern Standard Time
END:STANDARD
END:VTIMEZONE
BEGIN:VEVENT
DTSTART;TZID=America/New_York:20261021T110000
DTEND;TZID=America/New_York:20261021T180000
X-MICROSOFT-CDO-ALLDAYEVENT:FALSE
SUMMARY:6th Annual JCAR Golf Tournament
DESCRIPTION:The 2026 Golf Tournament will be held at the Pine Hollow Golf Club. There will be a reception following the tournament!RAIN DATE = OCTOBER 28TH
X-ALT-DESC;FMTTYPE=text/html:<!DOCTYPE html><html><head><title></title></head><body aria-disabled="false"><p>The 2026 Golf Tournament will be held at the Pine Hollow Golf Club. There will be a reception following the tournament!</p><p>RAIN DATE = OCTOBER 28TH</p></body></html>
LOCATION:3300 E Garner Road Clayton NC 27520
UID:e.2990.1446098
SEQUENCE:3
DTSTAMP:20260422T132332Z
URL:https://members.jcar.realtor/events/Details/6th-annual-jcar-golf-tournament-1712808?sourceTypeId=Hub
END:VEVENT
END:VCALENDAR
